BEGIN:VCALENDAR
VERSION:2.0
PRODID:-//P-BIO - ECPv6.15.17//NONSGML v1.0//EN
CALSCALE:GREGORIAN
METHOD:PUBLISH
X-WR-CALNAME:P-BIO
X-ORIGINAL-URL:https://p-bio.org
X-WR-CALDESC:Eventos para P-BIO
REFRESH-INTERVAL;VALUE=DURATION:PT1H
X-Robots-Tag:noindex
X-PUBLISHED-TTL:PT1H
BEGIN:VTIMEZONE
TZID:UTC
BEGIN:STANDARD
TZOFFSETFROM:+0000
TZOFFSETTO:+0000
TZNAME:UTC
DTSTART:20230101T000000
END:STANDARD
END:VTIMEZONE
BEGIN:VEVENT
DTSTART;VALUE=DATE:20240306
DTEND;VALUE=DATE:20240310
DTSTAMP:20260423T063558
CREATED:20240122T154210Z
LAST-MODIFIED:20240122T154210Z
UID:12218-1709683200-1710028799@p-bio.org
SUMMARY:Forces across scales
DESCRIPTION:Mais informação: www.i3s.up.pt/event
URL:https://p-bio.org/evento/forces-across-scales/
LOCATION:Rua Alfredo Allen\, 208; 4200-135 Porto\, Portugal\, Porto\, Portugal
CATEGORIES:Internacionais,Nacionais
ATTACH;FMTTYPE=image/png:https://p-bio.org/wp-content/uploads/2024/01/Forces-across-scales.png
END:VEVENT
END:VCALENDAR