BEGIN:VCALENDAR
VERSION:2.0
PRODID:-//P-BIO - ECPv6.15.17//NONSGML v1.0//EN
CALSCALE:GREGORIAN
METHOD:PUBLISH
X-ORIGINAL-URL:https://p-bio.org
X-WR-CALDESC:Eventos para P-BIO
REFRESH-INTERVAL;VALUE=DURATION:PT1H
X-Robots-Tag:noindex
X-PUBLISHED-TTL:PT1H
BEGIN:VTIMEZONE
TZID:UTC
BEGIN:STANDARD
TZOFFSETFROM:+0000
TZOFFSETTO:+0000
TZNAME:UTC
DTSTART:20220101T000000
END:STANDARD
END:VTIMEZONE
BEGIN:VEVENT
DTSTART;TZID=UTC:20231206T143000
DTEND;TZID=UTC:20231206T170000
DTSTAMP:20260423T102529
CREATED:20231130T165429Z
LAST-MODIFIED:20231130T165429Z
UID:11750-1701873000-1701882000@p-bio.org
SUMMARY:AGROBIOTECH: uma estratégia para a agrobiotecnologia em Portugal
DESCRIPTION:A P-BIO e a CAP – Confederação dos Agricultores de Portugal apresentam\, a 6 de dezembro\, a partir das 14h30\, no CNEMA – Centro Nacional de Exposições e Mercados Agrícolas\, em Santarém\, os resultados do estudo AgroBioTech\, que pretende contribuir para uma estratégia para a agrobiotecnologia em Portugal. \nNuma primeira fase\, o estudo mapeou e compilou os principais atores que desenvolvem soluções biotecnológicas aplicadas aos setores agrícola\, agroalimentar e florestal português. \nA análise de toda a informação recolhida foi refletida num documento de posição conjunto\, com o intuito de influenciar\, junto das autoridades nacionais com competências nesta área\, a aplicação das políticas e mecanismos que melhor contribuam o desenvolvimento e a incorporação desta inovação. \nO AgroBioTech é uma parceria entre a CAP e a P-BIO\, com o objetivo de criar uma estratégia comum que tire proveito das capacidades instaladas no país\, tanto na biotecnologia como na agricultura\, promovendo a modernização da produção agroalimentar e florestal e a competitividade do setor\, através do desenvolvimento de novos produtos diferenciados e de soluções para o aumento de rendimento e valorização de recursos. \nO evento de apresentação é gratuito\, mas é necessária a inscrição aqui. Veja o programa aqui.
URL:https://p-bio.org/evento/agrobiotech-uma-estrategia-para-a-agrobiotecnologia-em-portugal/
LOCATION:CNEMA\, CNEMA - AGROGLOBAL Quinta das Cegonhas - EN3\, Santarém\, 2000-471 SANTARÉM
CATEGORIES:Nacionais
ATTACH;FMTTYPE=image/jpeg:https://p-bio.org/wp-content/uploads/2023/11/SavetheDate-_AGROBIOTECH-scaled.jpg
END:VEVENT
END:VCALENDAR