BEGIN:VCALENDAR
VERSION:2.0
PRODID:-//P-BIO - ECPv6.15.17//NONSGML v1.0//EN
CALSCALE:GREGORIAN
METHOD:PUBLISH
X-ORIGINAL-URL:https://p-bio.org
X-WR-CALDESC:Eventos para P-BIO
REFRESH-INTERVAL;VALUE=DURATION:PT1H
X-Robots-Tag:noindex
X-PUBLISHED-TTL:PT1H
BEGIN:VTIMEZONE
TZID:UTC
BEGIN:STANDARD
TZOFFSETFROM:+0000
TZOFFSETTO:+0000
TZNAME:UTC
DTSTART:20220101T000000
END:STANDARD
END:VTIMEZONE
BEGIN:VEVENT
DTSTART;VALUE=DATE:20231114
DTEND;VALUE=DATE:20231117
DTSTAMP:20260423T114749
CREATED:20231027T090551Z
LAST-MODIFIED:20231027T090551Z
UID:11483-1699920000-1700179199@p-bio.org
SUMMARY:15ª Cimeira Anual PEGS Europe: Cimeira de Engenharia de Proteínas e Anticorpos
DESCRIPTION:Mais informações em: www.pegsummiteurope.com
URL:https://p-bio.org/evento/15a-cimeira-anual-pegs-europe-cimeira-de-engenharia-de-proteinas-e-anticorpos/
LOCATION:CCL – Centro de Congressos de Lisboa\, Praça das Indústrias\, 1300-307 Lisboa
CATEGORIES:Internacionais,Nacionais
ATTACH;FMTTYPE=image/png:https://p-bio.org/wp-content/uploads/2023/10/PEGSEUROPE-e1698397507283.png
END:VEVENT
BEGIN:VEVENT
DTSTART;VALUE=DATE:20231116
DTEND;VALUE=DATE:20231119
DTSTAMP:20260423T114749
CREATED:20230901T083655Z
LAST-MODIFIED:20230901T083655Z
UID:10578-1700092800-1700351999@p-bio.org
SUMMARY:Congress Farm to Fork: our food\, our health\, our future
DESCRIPTION:Mais informações: www.cataa.pt/farm-to-fork/
URL:https://p-bio.org/evento/congress-farm-to-fork-our-food-our-health-our-future/
LOCATION:Cine Teatro – Avenida\, Castelo Branco\, Portugal
CATEGORIES:Nacionais
ATTACH;FMTTYPE=image/png:https://p-bio.org/wp-content/uploads/2023/09/FarmToFork-e1693557326448.png
END:VEVENT
END:VCALENDAR