BEGIN:VCALENDAR
VERSION:2.0
PRODID:-//P-BIO - ECPv6.15.17//NONSGML v1.0//EN
CALSCALE:GREGORIAN
METHOD:PUBLISH
X-WR-CALNAME:P-BIO
X-ORIGINAL-URL:https://p-bio.org
X-WR-CALDESC:Eventos para P-BIO
REFRESH-INTERVAL;VALUE=DURATION:PT1H
X-Robots-Tag:noindex
X-PUBLISHED-TTL:PT1H
BEGIN:VTIMEZONE
TZID:Europe/Paris
BEGIN:DAYLIGHT
TZOFFSETFROM:+0100
TZOFFSETTO:+0200
TZNAME:CEST
DTSTART:20220327T010000
END:DAYLIGHT
BEGIN:STANDARD
TZOFFSETFROM:+0200
TZOFFSETTO:+0100
TZNAME:CET
DTSTART:20221030T010000
END:STANDARD
BEGIN:DAYLIGHT
TZOFFSETFROM:+0100
TZOFFSETTO:+0200
TZNAME:CEST
DTSTART:20230326T010000
END:DAYLIGHT
BEGIN:STANDARD
TZOFFSETFROM:+0200
TZOFFSETTO:+0100
TZNAME:CET
DTSTART:20231029T010000
END:STANDARD
BEGIN:DAYLIGHT
TZOFFSETFROM:+0100
TZOFFSETTO:+0200
TZNAME:CEST
DTSTART:20240331T010000
END:DAYLIGHT
BEGIN:STANDARD
TZOFFSETFROM:+0200
TZOFFSETTO:+0100
TZNAME:CET
DTSTART:20241027T010000
END:STANDARD
END:VTIMEZONE
BEGIN:VEVENT
DTSTART;TZID=Europe/Paris:20230630T143000
DTEND;TZID=Europe/Paris:20230630T170000
DTSTAMP:20260423T172403
CREATED:20230620T165049Z
LAST-MODIFIED:20230620T165049Z
UID:8568-1688135400-1688144400@p-bio.org
SUMMARY:Sessão pública de apresentação do projeto PreVineGrape
DESCRIPTION:O projeto PreVineGrape teve como objetivo desenvolver uma solução inovadora para o combate de doenças da videira na forma de um biofungicida eficiente e livre de efeitos adversos\, oferecendo soluções para vinhos sustentáveis de elevado valor acrescentado. A execução do projeto é feita pelo consórcio liderado pela DEIFIL TECHNOLOGY\, Lda.\, e com a participação da Sogrape Vinhos\, S.A.\, João Nicolau de Almeida & Filhos\, Lda.\, Instituto Politécnico de Bragança e A.D.V.I.D. – Associação para o Desenvolvimento da Vinicultura Duriense\, desenvolvemos um biofungicida natural e eficiente para a indústria vitivinícola. \nConsulte o programa.
URL:https://p-bio.org/evento/sessao-publica-de-apresentacao-do-projeto-previnegrape/
LOCATION:Lisbon
CATEGORIES:Nacionais
ATTACH;FMTTYPE=image/png:https://p-bio.org/wp-content/uploads/2023/02/PreVineGrape-e1687279714566.png
END:VEVENT
END:VCALENDAR