BEGIN:VCALENDAR
VERSION:2.0
PRODID:-//P-BIO - ECPv6.15.17//NONSGML v1.0//EN
CALSCALE:GREGORIAN
METHOD:PUBLISH
X-WR-CALNAME:P-BIO
X-ORIGINAL-URL:https://p-bio.org/en/
X-WR-CALDESC:Events for P-BIO
REFRESH-INTERVAL;VALUE=DURATION:PT1H
X-Robots-Tag:noindex
X-PUBLISHED-TTL:PT1H
BEGIN:VTIMEZONE
TZID:UTC
BEGIN:STANDARD
TZOFFSETFROM:+0000
TZOFFSETTO:+0000
TZNAME:UTC
DTSTART:20230101T000000
END:STANDARD
END:VTIMEZONE
BEGIN:VEVENT
DTSTART;VALUE=DATE:20240515
DTEND;VALUE=DATE:20240517
DTSTAMP:20260419T175453
CREATED:20240123T101257Z
LAST-MODIFIED:20240123T102204Z
UID:12263-1715731200-1715903999@p-bio.org
SUMMARY:Knowledge for Growth
DESCRIPTION:Get ready for the touchdown of Europe’s finest life sciences conference\, Knowledge for Growth\, on May 16\, 2024\, in the vibrant city of Antwerp\, Belgium! \nElevate your network by rubbing shoulders with decision-makers from biotech\, pharma\, and MedTech\, alongside investors\, universities\, cutting-edge research institutes\, policymakers\, and competence providers. Join over 1000 life sciences trailblazers representing 500+ companies & organizations! \nUncover the future with the riveting programme\, delivering key insights into the global and regional life sciences landscape. Engage in dynamic B2B partnering\, explore groundbreaking innovations at the trade fair\, and seize endless networking opportunities. \nReady to be part of the life sciences revolution? \nEarly fee deadline is on 22 February \nMore information: knowledgeforgrowth.be/
URL:https://p-bio.org/en/event/knowledge-for-growth/
LOCATION:Flanders Meeting & Convention Center Antwerp  Koningin Astridplein 20  2018 Antwerp\, Atwerp\, Bélgica
CATEGORIES:International
ATTACH;FMTTYPE=image/png:https://p-bio.org/wp-content/uploads/2024/01/FLBIO_KFG_2024_banner_LinkedIn_2-e1706004581138.png
END:VEVENT
BEGIN:VEVENT
DTSTART;VALUE=DATE:20240516
DTEND;VALUE=DATE:20240519
DTSTAMP:20260419T175453
CREATED:20230721T142416Z
LAST-MODIFIED:20230721T142416Z
UID:10159-1715817600-1716076799@p-bio.org
SUMMARY:LABSUMMIT2024
DESCRIPTION:Labsummit aims to promote an inspiring environment where participants can update themselves\, share knowledge\, establish partnerships\, and drive the advancement of the laboratory industry. \nThe four pillars of Labsummit are interconnected and represent the main challenges and areas of interest for professionals in the laboratory industry. By addressing these topics comprehensively\, the event aims to drive innovation\, collaboration\, and continuous advancement in this field. \n\nSustainability\nDigital\nLaboratory\nProductivity\n\nMore information: www.labsummit.com/
URL:https://p-bio.org/en/event/labsummit2024/
LOCATION:Coimbra
CATEGORIES:International,National
ATTACH;FMTTYPE=image/png:https://p-bio.org/wp-content/uploads/2023/07/LABSUMMIT2024.png
END:VEVENT
END:VCALENDAR