BEGIN:VCALENDAR
VERSION:2.0
PRODID:-//P-BIO - ECPv6.15.17//NONSGML v1.0//EN
CALSCALE:GREGORIAN
METHOD:PUBLISH
X-WR-CALNAME:P-BIO
X-ORIGINAL-URL:https://p-bio.org/en/
X-WR-CALDESC:Events for P-BIO
REFRESH-INTERVAL;VALUE=DURATION:PT1H
X-Robots-Tag:noindex
X-PUBLISHED-TTL:PT1H
BEGIN:VTIMEZONE
TZID:UTC
BEGIN:STANDARD
TZOFFSETFROM:+0000
TZOFFSETTO:+0000
TZNAME:UTC
DTSTART:20230101T000000
END:STANDARD
END:VTIMEZONE
BEGIN:VEVENT
DTSTART;VALUE=DATE:20240325
DTEND;VALUE=DATE:20240328
DTSTAMP:20260422T140409
CREATED:20240131T104616Z
LAST-MODIFIED:20240131T104635Z
UID:12337-1711324800-1711583999@p-bio.org
SUMMARY:8th Edition of Global Congress on Plant Biology and Biotechnology
DESCRIPTION:More information: plantbiologyconference.com/
URL:https://p-bio.org/en/event/8th-edition-of-global-congress-on-plant-biology-and-biotechnology/
LOCATION:Village Hotel Changi 1 Netheravon Rd\, Singapore\, Singapura
CATEGORIES:International
ATTACH;FMTTYPE=image/png:https://p-bio.org/wp-content/uploads/2024/01/PlantBiologyandBiotech.png
END:VEVENT
END:VCALENDAR