BEGIN:VCALENDAR
VERSION:2.0
PRODID:-//P-BIO - ECPv6.15.17//NONSGML v1.0//EN
CALSCALE:GREGORIAN
METHOD:PUBLISH
X-ORIGINAL-URL:https://p-bio.org/en/
X-WR-CALDESC:Events for P-BIO
REFRESH-INTERVAL;VALUE=DURATION:PT1H
X-Robots-Tag:noindex
X-PUBLISHED-TTL:PT1H
BEGIN:VTIMEZONE
TZID:UTC
BEGIN:STANDARD
TZOFFSETFROM:+0000
TZOFFSETTO:+0000
TZNAME:UTC
DTSTART:20230101T000000
END:STANDARD
END:VTIMEZONE
BEGIN:VEVENT
DTSTART;VALUE=DATE:20240401
DTEND;VALUE=DATE:20240406
DTSTAMP:20260422T110311
CREATED:20240227T110027Z
LAST-MODIFIED:20240227T110027Z
UID:12694-1711929600-1712361599@p-bio.org
SUMMARY:BIO HABANA 2024
DESCRIPTION:More information: biohabana24.biocubafarma.cu/es
URL:https://p-bio.org/en/event/bio-habana-2024/
LOCATION:Centro de Convenciones y Comercial Plaza América\, Matanzas\, Cuba
CATEGORIES:International
ATTACH;FMTTYPE=image/jpeg:https://p-bio.org/wp-content/uploads/2024/02/BIOHABANA-e1709031564987.jpg
END:VEVENT
BEGIN:VEVENT
DTSTART;VALUE=DATE:20240418
DTEND;VALUE=DATE:20240420
DTSTAMP:20260422T110311
CREATED:20240131T110521Z
LAST-MODIFIED:20240131T110609Z
UID:12361-1713398400-1713571199@p-bio.org
SUMMARY:EIT Health Summit
DESCRIPTION:More information: summit.eithealth.eu/
URL:https://p-bio.org/en/event/eit-health-summit/
LOCATION:Postillion Hotel and Convention Centre WTC\, Rotterdam\, Holanda
CATEGORIES:International
ATTACH;FMTTYPE=image/png:https://p-bio.org/wp-content/uploads/2024/01/EIThealthSummit.png
END:VEVENT
BEGIN:VEVENT
DTSTART;VALUE=DATE:20240429
DTEND;VALUE=DATE:20240501
DTSTAMP:20260422T110311
CREATED:20240131T111020Z
LAST-MODIFIED:20240131T111039Z
UID:12370-1714348800-1714521599@p-bio.org
SUMMARY:BIOVARIA
DESCRIPTION:More information: www.biovaria.org/
URL:https://p-bio.org/en/event/biovaria/
LOCATION:Sofitel Munich Bayerpost\, Munich\, Alemanha
CATEGORIES:International
ATTACH;FMTTYPE=image/png:https://p-bio.org/wp-content/uploads/2024/01/BIOVARIA.png
END:VEVENT
BEGIN:VEVENT
DTSTART;VALUE=DATE:20240429
DTEND;VALUE=DATE:20240501
DTSTAMP:20260422T110311
CREATED:20240131T111947Z
LAST-MODIFIED:20240206T114431Z
UID:12379-1714348800-1714521599@p-bio.org
SUMMARY:10th LSX World Congress
DESCRIPTION:For a decade\, the LSX World Congress has been bringing together the executives that matter to the future of healthcare and life science strategy\, investment\, partnering and deal-making.LSX World Congress gathers the founders and CEOs of innovative start-ups through to public healthcare giants\, and everyone in between. It represents the breadth and depth of cutting-edge research and technology driving the advances in the industry right now and in the near future. \nThe biotech\, healthtech and medtech industry’s c-suite will be joined by the sector’s most active investors\, pharma and health technology BD&L teams\, R&D leaders\, KOLs and top tier service companies who are driving the sector forward. \nIn an industry as dynamic as this\, LSX World Congress brings together the people who are developing technologies\, solutions and new business models to tackle the biggest healthcare challenges in the industry today\, and helps answer the question; what’s next and how do we get there? \nWith our relentless focus on quality peer-to-peer discussion\, high-level networking and partnering\, intimate conference formats and a vetted\, high-calibre audience\, we help you Connect with Purpose. \nP-BIO’s members can benefit from a 15% discount. Please\, contact sec.geral@p-bio.org for further information. \nMore information: https://informaconnect.com/lsx-world-congress/
URL:https://p-bio.org/en/event/10th-lsx-world-congress/
LOCATION:Business Design Centre\, London\, Reino Unido
CATEGORIES:International
ATTACH;FMTTYPE=image/png:https://p-bio.org/wp-content/uploads/2024/01/LSX-World-Congress-2024-Banner--e1706699799363.png
END:VEVENT
END:VCALENDAR