BEGIN:VCALENDAR
VERSION:2.0
PRODID:-//P-BIO - ECPv6.15.17//NONSGML v1.0//EN
CALSCALE:GREGORIAN
METHOD:PUBLISH
X-WR-CALNAME:P-BIO
X-ORIGINAL-URL:https://p-bio.org/en/
X-WR-CALDESC:Events for P-BIO
REFRESH-INTERVAL;VALUE=DURATION:PT1H
X-Robots-Tag:noindex
X-PUBLISHED-TTL:PT1H
BEGIN:VTIMEZONE
TZID:UTC
BEGIN:STANDARD
TZOFFSETFROM:+0000
TZOFFSETTO:+0000
TZNAME:UTC
DTSTART:20220101T000000
END:STANDARD
END:VTIMEZONE
BEGIN:VEVENT
DTSTART;VALUE=DATE:20231128
DTEND;VALUE=DATE:20231202
DTSTAMP:20260422T170721
CREATED:20230710T143011Z
LAST-MODIFIED:20230710T143011Z
UID:9690-1701129600-1701475199@p-bio.org
SUMMARY:Biostimulants World Congress
DESCRIPTION:More information: informaconnect.com/biostimulants-world-congress/
URL:https://p-bio.org/en/event/biostimulants-world-congress/
LOCATION:Allianz Mico\, Milan\, Itália
CATEGORIES:International
ATTACH;FMTTYPE=image/png:https://p-bio.org/wp-content/uploads/2023/07/BiostimulantsWorldCongress-.png
END:VEVENT
END:VCALENDAR